BEGIN:VCALENDAR
VERSION:2.0
PRODID:-//eventon.com NONSGML v1.0//EN
BEGIN:VEVENT
UID:69e8992062530
DTSTAMP:20260422T114712
DTSTART:20260611T220000Z
DTEND:20260612T215900Z
LOCATION:
SUMMARY:ARDIBIDEPIKUA BERTIKALA
DESCRIPTION: Ardibidepikua Bertikala lasterketa bertikala moduko kirol proba da. Helburua Larraza mendia (1.587m) igotzea da\,  3\, 2 kilometro eskas dituen ibilbidean. Desnibel positiboa 800 metrokoa da. Irteera\,  Izabako Erminea frontoiaren plazan da eta igoera basotik egiten da Ardibidepikuara bidean\,  eta hau gainditu ostean Larrazako gailur ikusgarrian amaitzen da. Informazio gehiago: www.camilleextreme.com.
END:VEVENT
END:VCALENDAR