BEGIN:VCALENDAR
VERSION:2.0
PRODID:-//eventon.com NONSGML v1.0//EN
BEGIN:VEVENT
UID:69e8994d8cf2b
DTSTAMP:20260422T114757
DTSTART:20260613T220000Z
DTEND:20260614T215900Z
LOCATION:
SUMMARY:CAMILLE EXTREME
DESCRIPTION: Camille Extreme Izabako Kirol Elkarteak antolatu ohi duen mendi-lasterketa bat da. 2005ean egin zen lehenengo aldiz; 31\, 6 kilometro ditu ibilbideak\,  eta Ezkaurre mendia\,  besteak beste\,  igotzen da. Euskal Herriko eta Espainiako txapelketak hartu ditu\,  eta nazioarteko zirkuituen parte ere izan da (Skyrunner Series\,  adibidez). Informazio gehiago: www.camilleextreme.com.
END:VEVENT
END:VCALENDAR