BEGIN:VCALENDAR
VERSION:2.0
PRODID:-//eventon.com NONSGML v1.0//EN
BEGIN:VEVENT
UID:69e570cb9060a
DTSTAMP:20260420T021819
DTSTART:20260402T220000Z
DTEND:20260403T215900Z
LOCATION:
SUMMARY:CROSS DE LAS ERMITAS
DESCRIPTION: El Cros de las Ermitas es una carrera nocturna de 6 kilómetros. Se celebra cada año en Isaba el viernes de Semana Santa. Durante el recorrido\,  se pasa entre otras por las ermitas de Belen e Idoya\,  situadas fuera del núcleo urbano y que le dan un carácter peculiar a[..]
END:VEVENT
END:VCALENDAR